Index of /checkResults/3.20/bioc-LATEST/qPLEXanalyzer/raw-results

[ICO]NameLast modifiedSizeDescription

[PARENTDIR]Parent Directory  -  
[   ]info.dcf2025-02-03 17:04 282  
[DIR]kjohnson1/2025-02-03 17:10 -  
[DIR]kjohnson3/2024-11-10 02:31 -  
[DIR]kunpeng2/2024-11-20 17:08 -  
[DIR]lconway/2024-11-20 17:06 -  
[DIR]merida1/2025-02-03 17:09 -  
[DIR]nebbiolo2/2025-02-03 17:05 -  
[DIR]palomino4/2024-06-11 19:41 -  
[DIR]palomino6/2024-07-16 15:41 -  
[DIR]palomino8/2025-02-03 17:07 -  
[DIR]taishan/2025-02-03 17:12 -  
[DIR]teran2/2024-11-20 17:02 -  

Apache/2.4.52 (Ubuntu) Server at master.bioconductor.org Port 80